BEGIN:VCALENDAR
VERSION:2.0
PRODID:-// - ECPv4.6.21//NONSGML v1.0//EN
CALSCALE:GREGORIAN
METHOD:PUBLISH
X-ORIGINAL-URL:https://www.weizbergchor.at
X-WR-CALDESC:Veranstaltungen für 
BEGIN:VEVENT
DTSTART;TZID=Europe/Vienna:20191208T170000
DTEND;TZID=Europe/Vienna:20191208T180000
DTSTAMP:20260423T120740
CREATED:20191121T174714Z
LAST-MODIFIED:20191121T174714Z
UID:417-1575824400-1575828000@www.weizbergchor.at
SUMMARY:Weihnachtskonzert
DESCRIPTION:Magnificat von T. Albinoni\nWeihnachtsoratorium von J.S. Bach \n
URL:https://www.weizbergchor.at/termine/weihnachtskonzert/
LOCATION:Weizberg 13\, 8160 Weiz
END:VEVENT
END:VCALENDAR