BEGIN:VCALENDAR
VERSION:2.0
PRODID:-// - ECPv4.6.21//NONSGML v1.0//EN
CALSCALE:GREGORIAN
METHOD:PUBLISH
X-ORIGINAL-URL:https://www.weizbergchor.at
X-WR-CALDESC:Veranstaltungen für 
BEGIN:VEVENT
DTSTART;TZID=Europe/Vienna:20221204T063000
DTEND;TZID=Europe/Vienna:20221204T063000
DTSTAMP:20260420T200746
CREATED:20220927T052329Z
LAST-MODIFIED:20220927T052607Z
UID:560-1670135400-1670135400@www.weizbergchor.at
SUMMARY:Rorate - Basilika
DESCRIPTION:
URL:https://www.weizbergchor.at/termine/rorate/
LOCATION:Weizberg 13\, 8160 Weiz
CATEGORIES:Gottesdienst
END:VEVENT
END:VCALENDAR