BEGIN:VCALENDAR
VERSION:2.0
PRODID:-// - ECPv4.6.21//NONSGML v1.0//EN
CALSCALE:GREGORIAN
METHOD:PUBLISH
X-ORIGINAL-URL:https://www.weizbergchor.at
X-WR-CALDESC:Veranstaltungen für 
BEGIN:VEVENT
DTSTART;TZID=Europe/Vienna:20230319T170000
DTEND;TZID=Europe/Vienna:20230319T170000
DTSTAMP:20260420T162517
CREATED:20230220T070156Z
LAST-MODIFIED:20230308T075646Z
UID:585-1679245200-1679245200@www.weizbergchor.at
SUMMARY:Passionskonzert - Pfarrkirche Anger
DESCRIPTION:Karten: Vvk € 10\,- / AK € 12\,-\nReservierungen: info@weizbergchor.at \n
URL:https://www.weizbergchor.at/termine/passion-konzert-pfarrkirche-anger/
LOCATION:Hauptplatz 17\, Anger\, Steiermark\, 8184\, Österreich
END:VEVENT
END:VCALENDAR