BEGIN:VCALENDAR
VERSION:2.0
PRODID:-// - ECPv4.6.21//NONSGML v1.0//EN
CALSCALE:GREGORIAN
METHOD:PUBLISH
X-ORIGINAL-URL:https://www.weizbergchor.at
X-WR-CALDESC:Veranstaltungen für 
BEGIN:VEVENT
DTSTART;TZID=Europe/Vienna:20230409T103000
DTEND;TZID=Europe/Vienna:20230409T103000
DTSTAMP:20260420T143409
CREATED:20230329T090133Z
LAST-MODIFIED:20230329T090259Z
UID:651-1681036200-1681036200@www.weizbergchor.at
SUMMARY:Ostersonntag - Basilika
DESCRIPTION:Sonntag\, 09. April 2023 – 10:30 Uhr Basilika\nOstersonntag \n
URL:https://www.weizbergchor.at/termine/ostersonntag-basilika/
CATEGORIES:Gottesdienst
END:VEVENT
END:VCALENDAR