BEGIN:VCALENDAR
VERSION:2.0
PRODID:-// - ECPv4.6.21//NONSGML v1.0//EN
CALSCALE:GREGORIAN
METHOD:PUBLISH
X-ORIGINAL-URL:https://www.weizbergchor.at
X-WR-CALDESC:Veranstaltungen für 
BEGIN:VEVENT
DTSTART;TZID=Europe/Vienna:20250323T100000
DTEND;TZID=Europe/Vienna:20250323T100000
DTSTAMP:20260421T101338
CREATED:20241023T100916Z
LAST-MODIFIED:20241023T100916Z
UID:715-1742724000-1742724000@www.weizbergchor.at
SUMMARY:ORF Gottesdienst - Basilika
DESCRIPTION:Sonntag\, 23. März 2025 – 10:00 Basilika\nGottesdienst \n
URL:https://www.weizbergchor.at/termine/orf-gottesdienst-basilika/
CATEGORIES:Gottesdienst
END:VEVENT
END:VCALENDAR