BEGIN:VCALENDAR
VERSION:2.0
PRODID:-// - ECPv4.6.21//NONSGML v1.0//EN
CALSCALE:GREGORIAN
METHOD:PUBLISH
X-ORIGINAL-URL:https://www.weizbergchor.at
X-WR-CALDESC:Veranstaltungen für 
BEGIN:VEVENT
DTSTART;TZID=Europe/Vienna:20180408T180000
DTEND;TZID=Europe/Vienna:20180408T220000
DTSTAMP:20260424T001054
CREATED:20180802T154330Z
LAST-MODIFIED:20180802T154653Z
UID:106-1523210400-1523224800@www.weizbergchor.at
SUMMARY:Messa di Gloria
DESCRIPTION:Giacomo Puccini – Messa di Gloria\nMitwirkende: Weizbergchor\, Solisten\, Orchester und Gastchor aus Triest (Italien) \nArtikel in der Kleine Zeitung \n
URL:https://www.weizbergchor.at/termine/messa-di-gloria/
LOCATION:Weizberg 13\, 8160 Weiz
CATEGORIES:Konzert
END:VEVENT
END:VCALENDAR