BEGIN:VCALENDAR
VERSION:2.0
PRODID:-// - ECPv4.6.21//NONSGML v1.0//EN
CALSCALE:GREGORIAN
METHOD:PUBLISH
X-ORIGINAL-URL:https://www.weizbergchor.at
X-WR-CALDESC:Veranstaltungen für 
BEGIN:VEVENT
DTSTART;TZID=Europe/Vienna:20200409T190000
DTEND;TZID=Europe/Vienna:20200409T200000
DTSTAMP:20260421T050940
CREATED:20200110T202656Z
LAST-MODIFIED:20200110T202656Z
UID:472-1586458800-1586462400@www.weizbergchor.at
SUMMARY:Gründonnerstag Liturgie
DESCRIPTION:
URL:https://www.weizbergchor.at/termine/gruendonnerstag-liturgie/
CATEGORIES:Gottesdienst
END:VEVENT
END:VCALENDAR