BEGIN:VCALENDAR
VERSION:2.0
PRODID:-// - ECPv4.6.21//NONSGML v1.0//EN
CALSCALE:GREGORIAN
METHOD:PUBLISH
X-ORIGINAL-URL:https://www.weizbergchor.at
X-WR-CALDESC:Veranstaltungen für 
BEGIN:VEVENT
DTSTART;TZID=Europe/Vienna:20240602T103000
DTEND;TZID=Europe/Vienna:20240602T103000
DTSTAMP:20260422T085917
CREATED:20240221T074656Z
LAST-MODIFIED:20240221T074656Z
UID:700-1717324200-1717324200@www.weizbergchor.at
SUMMARY:Gottesdienst - Basilika
DESCRIPTION:Sonntag\, 02. Juni 2024 – 10:30 Uhr Basilika\nGottesdienst \n
URL:https://www.weizbergchor.at/termine/gottesdienst-basilika-4/
CATEGORIES:Gottesdienst
END:VEVENT
END:VCALENDAR