BEGIN:VCALENDAR
VERSION:2.0
PRODID:-// - ECPv4.6.21//NONSGML v1.0//EN
CALSCALE:GREGORIAN
METHOD:PUBLISH
X-ORIGINAL-URL:https://www.weizbergchor.at
X-WR-CALDESC:Veranstaltungen für 
BEGIN:VEVENT
DTSTART;TZID=Europe/Vienna:20200621T103000
DTEND;TZID=Europe/Vienna:20200621T113000
DTSTAMP:20260421T012637
CREATED:20200110T203121Z
LAST-MODIFIED:20200110T203121Z
UID:479-1592735400-1592739000@www.weizbergchor.at
SUMMARY:Gottesdienst
DESCRIPTION:
URL:https://www.weizbergchor.at/termine/gottesdienst-3/
END:VEVENT
END:VCALENDAR