BEGIN:VCALENDAR
VERSION:2.0
PRODID:-// - ECPv4.6.21//NONSGML v1.0//EN
CALSCALE:GREGORIAN
METHOD:PUBLISH
X-ORIGINAL-URL:https://www.weizbergchor.at
X-WR-CALDESC:Veranstaltungen für 
BEGIN:VEVENT
DTSTART;TZID=Europe/Vienna:20231008T103000
DTEND;TZID=Europe/Vienna:20231008T103000
DTSTAMP:20260422T084713
CREATED:20230920T102243Z
LAST-MODIFIED:20230920T102319Z
UID:670-1696761000-1696761000@www.weizbergchor.at
SUMMARY:Ehejubiläen - Basilika
DESCRIPTION:Sonntag\, 08. Oktober 2023 – 10:30 Basilika\nGottesdienst \n
URL:https://www.weizbergchor.at/termine/ehejubilaeen-3/
LOCATION:Weizberg 13\, 8160 Weiz
END:VEVENT
END:VCALENDAR