BEGIN:VCALENDAR
VERSION:2.0
PRODID:-// - ECPv4.6.21//NONSGML v1.0//EN
CALSCALE:GREGORIAN
METHOD:PUBLISH
X-ORIGINAL-URL:https://www.weizbergchor.at
X-WR-CALDESC:Veranstaltungen für 
BEGIN:VEVENT
DTSTART;TZID=Europe/Vienna:20221009T103000
DTEND;TZID=Europe/Vienna:20221009T103000
DTSTAMP:20260420T195116
CREATED:20220927T052413Z
LAST-MODIFIED:20220927T052643Z
UID:550-1665311400-1665311400@www.weizbergchor.at
SUMMARY:Ehejubiläen - Basilika
DESCRIPTION:
URL:https://www.weizbergchor.at/termine/ehejubilaeen-2/
LOCATION:Weizberg 13\, 8160 Weiz
CATEGORIES:Gottesdienst
END:VEVENT
END:VCALENDAR