BEGIN:VCALENDAR
VERSION:2.0
PRODID:-// - ECPv4.6.21//NONSGML v1.0//EN
CALSCALE:GREGORIAN
METHOD:PUBLISH
X-ORIGINAL-URL:https://www.weizbergchor.at
X-WR-CALDESC:Veranstaltungen für 
BEGIN:VEVENT
DTSTART;TZID=Europe/Vienna:20241225T103000
DTEND;TZID=Europe/Vienna:20241225T103000
DTSTAMP:20260421T130357
CREATED:20241023T100624Z
LAST-MODIFIED:20241023T100624Z
UID:711-1735122600-1735122600@www.weizbergchor.at
SUMMARY:Christtag Hochamt - Basilika
DESCRIPTION:Mittwoch\, 25. Dezember 2024 – 10:30 Basilika\nHochamt \n
URL:https://www.weizbergchor.at/termine/christtag-hochamt-basilika/
CATEGORIES:Gottesdienst
END:VEVENT
END:VCALENDAR