BEGIN:VCALENDAR
VERSION:2.0
PRODID:-// - ECPv4.6.21//NONSGML v1.0//EN
CALSCALE:GREGORIAN
METHOD:PUBLISH
X-ORIGINAL-URL:https://www.weizbergchor.at
X-WR-CALDESC:Veranstaltungen für 
BEGIN:VEVENT
DTSTART;TZID=Europe/Vienna:20221101T103000
DTEND;TZID=Europe/Vienna:20221101T103000
DTSTAMP:20260420T214555
CREATED:20220927T052353Z
LAST-MODIFIED:20220927T052626Z
UID:558-1667298600-1667298600@www.weizbergchor.at
SUMMARY:Allerheiligen - Basilika
DESCRIPTION:
URL:https://www.weizbergchor.at/termine/allerheiligen/
LOCATION:Weizberg 13\, 8160 Weiz
CATEGORIES:Gottesdienst
END:VEVENT
END:VCALENDAR