BEGIN:VCALENDAR
VERSION:2.0
PRODID:-// - ECPv4.6.21//NONSGML v1.0//EN
CALSCALE:GREGORIAN
METHOD:PUBLISH
X-ORIGINAL-URL:https://www.weizbergchor.at
X-WR-CALDESC:Veranstaltungen für 
BEGIN:VEVENT
DTSTART;TZID=Europe/Vienna:20231101T103000
DTEND;TZID=Europe/Vienna:20231101T103000
DTSTAMP:20260421T084155
CREATED:20230920T102521Z
LAST-MODIFIED:20230920T102521Z
UID:673-1698834600-1698834600@www.weizbergchor.at
SUMMARY:Allerheiligen - Basilika
DESCRIPTION:Mittwoch\, 01. November 2023 – 10:30 Basilika\nGottesdienst \n
URL:https://www.weizbergchor.at/termine/allerheiligen-basilika/
LOCATION:Weizberg 13\, 8160 Weiz
CATEGORIES:Gottesdienst
END:VEVENT
END:VCALENDAR